{"text_format":"1","workbook":"xlsx","n_sheets":2,"sheets":["WPPSI-III","Subtest Graph"],"not_rendered":{"charts":2,"images":0,"macros":0,"external_links":0,"defined_names":3,"comments":0,"pivot_tables":0},"unopened":[{"sheet":"Subtest Graph","index":1,"reason":"not_a_worksheet"}],"bounds":{"document_bytes":16777216,"sheet_cells":100000,"rows_first":2000,"rows_last":500,"rows_between":2000,"halvings":0,"cell_chars":16384,"cell_head_chars":4096},"cells_cut":0,"cells_raw":0,"read":"whole","date_system":"1904"}

{"sheet":"WPPSI-III","index":0,"n_rows":415,"n_cols":130,"rows_kept":415,"cut":false,"hidden":false,"merged":[[7,1,20,2],[3,13,5,17],[17,13,18,17],[15,13,16,17],[9,13,10,17],[11,13,12,17],[13,13,14,17],[79,3,79,15],[48,2,48,3],[68,3,69,15],[23,0,23,17],[76,3,76,7],[76,10,76,11],[76,8,76,9],[76,12,76,15],[74,12,75,15],[75,3,75,7],[75,10,75,11],[75,8,75,9],[65,3,65,7],[65,10,65,11],[65,8,65,9],[72,1,72,16],[65,12,65,15],[60,3,60,7],[60,10,60,11],[60,8,60,9],[60,12,60,15],[63,12,64,15],[64,3,64,7],[64,10,64,11],[64,8,64,9],[49,11,49,15],[39,9,39,10],[58,12,59,15],[59,3,59,7],[59,10,59,11],[59,8,59,9],[48,11,48,15],[87,7,87,11],[56,1,56,16],[38,9,38,10],[52,3,53,15],[42,3,43,15],[49,2,49,3],[49,5,49,10],[39,5,39,6],[39,7,39,8],[0,7,0,8],[1,7,1,8],[0,13,0,14],[7,13,8,17],[37,11,38,15],[39,11,39,15],[24,1,24,16],[35,1,35,16],[46,1,46,16],[110,7,110,8],[110,9,110,10],[110,12,110,16],[110,2,110,5],[37,5,37,10],[38,5,38,6],[38,7,38,8],[82,1,82,16],[107,1,107,16],[109,7,109,8],[109,9,109,10],[109,12,109,16],[89,1,93,2],[95,1,99,2],[113,7,113,8],[113,9,113,10],[113,12,113,16],[113,2,113,5],[112,7,112,8],[112,9,112,10],[112,12,112,16],[121,7,121,8],[121,9,121,10],[121,12,121,16],[101,1,102,2],[104,1,105,2],[119,2,119,5],[118,7,118,8],[116,2,116,5],[115,7,115,8],[115,9,115,10],[87,13,87,15],[119,7,119,8],[119,9,119,10],[119,12,119,16],[116,7,116,8],[116,9,116,10],[116,12,116,16],[118,9,118,10],[118,12,118,16],[115,12,115,16],[128,9,128,13],[131,9,131,13],[125,1,125,16],[128,2,128,5],[131,2,131,5],[122,7,122,8],[122,9,122,10],[122,12,122,16],[122,2,122,5]]}
[null,null,"Name: ","John S",null,null,"Date of Test:","2002-12-02",null,null,null,null,"Date Analyzed: ",{"$f":"NOW()","v":"2014-02-11T13:38:47.560"},null,null,null,null,null,null,{"$f":"YEAR(H1)","v":2002},{"$f":"MONTH(H1)","v":12},{"$f":"DAY(H1)","v":2},{"$f":"IF(Y2>Z1,U1-1,U1)","v":2002},{"$f":"IF(Y2>Z1,Z1+12,Z1)","v":11},{"$f":"IF(AA2>W1,V1-1,V1)","v":11},{"$f":"IF(AA2>W1,W1+30,W1)","v":32}]
[null,null,null,null,null,null,"Date of Birth:","1998-09-13",null,null,null,null,"Age:   ",{"$f":"AC3","v":"4 years, 2 months, 19 days"},null,null,null,null,null,null,null,null,null,{"$f":"YEAR(H2)","v":1998},{"$f":"MONTH(H2)","v":9},null,{"$f":"DAY(H2)","v":13}]
[null,null,null,null,null,null,null,null,null,null,null,null,null,null,null,null,null,null,null,null,null,null,null,{"$f":"X1-X2","v":4},{"$f":"Y1-Y2","v":2},null,{"$f":"AA1-AA2","v":19},null,{"$f":"X3&\" years, \"&Y3&Y4&AA3&AA4","v":"4 years, 2 months, 19 days"}]
[null,null,null,"","","","","","","","",null,null,{"$f":"IF(OR(X3<2,X3>7),\"The age computed is not supported by the WPPSI III\",IF(AND(X3=2,Y3<6),\"The age computed is not supported by the WPPSI III\",IF(AND(X3=7,Y3>3),\"The age computed is not supported by the WPPSI III\",\"\")))","v":""},null,null,null,null,null,{"$f":"FIND(\" \",D1)","v":5},{"$f":"MID(D1,1,T4-1)","v":"John"},null,null,null,{"$f":"IF(Y3=1,\" month, \",\" months, \")","v":" months, "},null,{"$f":"IF(AA3=1,\" day\",\" days\")","v":" days"}]
[null,null,null,null,null,null,null,null,null,null,null,null,null,null,null,null,null,null,null,null,null,null,1,2," ",4,5,6,7,8,9,10,11,12,13]
[null,null,null,null,null,null,null,null,null,null,null,null,null,null,null,null,null,null,null,null,null,null,16,18,20,25,30,35,45,55,65,70,75,80,85]
[null,null,null,"SUBTESTS",null,"ss","VIQ","PIQ","PS","GL","Full Scale","PR",null,null,null,null,null,null,null,null,null,null,{"$f":"LOOKUP(N2,W6:AI6,W5:AI5)","v":{"$error":"#N/A"}},"age grp"]
[null,"Check the subtests used in the Full Scale IQ calculation (7 required).  Core subtests are those with borders",null,null,null,10,null,{"$f":"IF(F8=\"\",\"\",IF(U8=0,\"(\"&F8&\")\",F8))","v":10},null,null,{"$f":"IF(U8=0,\"\",IF(F8=\"\",\"\",F8))","v":10},{"$f":"IF(F8=\"\",\"\",LOOKUP(F8,$D$310:$W$310,$D$311:$W$311))","v":50},null,{"$f":"IF(W17>3,\"You have selected too many subtests for calculation of a Verbal IQ\",IF(W17<3,\"You have selected too few subtests for calculation of a Verbal IQ\",\"\"))","v":""},null,null,null,null,null,true,{"$f":"IF(T8=TRUE,1,0)","v":1},null,"viq",null,"piq","fs","psi",null,"gl",null,"wmi",null,"ps"]
[null,null,null,null,null,9,{"$f":"IF(F9=\"\",\"\",IF(U9=0,\"(\"&F9&\")\",F9))","v":9},null,null,null,{"$f":"IF(U9=0,\"\",IF(F9=\"\",\"\",F9))","v":9},37,null,null,null,null,null,null,null,true,{"$f":"IF(T9=TRUE,1,0)","v":1},null,{"$f":"G23","v":20},null,{"$f":"H23","v":23},{"$f":"K23","v":46},{"$f":"I23","v":9},null,{"$f":"J23","v":27},null,{"$f":"F13+F15+F20","v":23},null,{"$f":"F10+F19","v":23}]
[null,null,null,null,null,8,null,{"$f":"IF(F10=\"\",\"\",IF(U10=0,\"(\"&F10&\")\",F10))","v":8},null,null,8,25,null,{"$f":"IF(W16>3,\"You have selected too many subtests for calculation of a Performance IQ\",IF(W16<3,\"You have selected too few subtests for calculation of a Performance IQ\",\"\"))","v":""},null,null,null,null,null,true,1]
[null,null,null,null,null,7,{"$f":"IF(F11=\"\",\"\",IF(U11=0,\"(\"&F11&\")\",F11))","v":7},null,null,null,7,16,null,null,null,null,null,null,null,true,1,null,null,null,"ss",null,null,"ss"]
[null,null,null,null,null,5,null,{"$f":"IF(F12=\"\",\"\",IF(U12=0,\"(\"&F12&\")\",F12))","v":5},null,null,5,5,null,{"$f":"IF(W18>7,\"You have selected too many subtests for inclusion in a Full Scale IQ\",IF(W18<7,\"You have selected too few subtests for calculation of a Full Scale IQ\",\"\"))","v":""},null,null,null,null,null,true,1]
[null,null,null,null,null,6,null,null,{"$f":"IF(F13=\"\",\"\",F13)","v":6},null,"",9,null,null,null,null,null,null,null,false,0,null,null,null,null,"I V WR",{"$f":"IF(U9+U11+U14=3,1,0)","v":1},null,"BD MR PCn",null,{"$f":"IF(U8+U10+U12=3,1,0)","v":1}]
[null,null,null,null,null,4,{"$f":"IF(F14=\"\",\"\",IF(U14=0,\"(\"&F14&\")\",F14))","v":4},null,null,null,4,2,null,{"$f":"IF(AB26<2,\"You have too few subtest scores for calculation of a Processing Speed Index\",\"\")","v":""},null,null,null,null,null,true,1,null,null,null,null,"I V C",{"$f":"IF(U9+U11+U16=3,2,0)","v":0},null,"BD MR PCmp",null,{"$f":"IF(U8+U10+U17=3,2,0)","v":0}]
[null,null,null,null,null,3,null,null,{"$f":"IF(F15=\"\",\"\",F15)","v":3},null,3,1,null,null,null,null,null,null,null,true,1,null,{"$f":"U13+U15","v":1},"psi",null,"I V S",{"$f":"IF(U9+U11+U18=3,3,0)","v":0},null,"BD MR OA",null,{"$f":"IF(U8+U10+U20=3,3,0)","v":0}]
[null,null,null,null,null,2,{"$f":"IF(F16=\"\",\"\",IF(U16=0,\"(\"&F16&\")\",F16))","v":"(2)"},null,null,null,"",0.4,null,{"$f":"IF(AND(W17=3,AA20>0),\"The Verbal IQ is based upon the following subtests:                                      \"&CHOOSE(AA20,Z13,Z14,Z15,Z16,Z17,Z18,Z19),IF(AA20=0,\"The combination of Verbal subtests chosen cannot be used to compute an IQ.\",\"\"))","v":"The Verbal IQ is based upon the following subtests:                                      I V WR"},null,null,null,null,null,false,0,null,{"$f":"U8+U10+U12+U17+U20","v":3},"piq",null,"I C WR",{"$f":"IF(U9+U16+U14=3,4,0)","v":0},null,"BD PCmp PCn",null,{"$f":"IF(U8+U12+U17=3,4,0)","v":0}]
[null,null,null,null,null,1,null,{"$f":"IF(F17=\"\",\"\",IF(U17=0,\"(\"&F17&\")\",F17))","v":"(1)"},null,null,"",0.1,null,null,null,null,null,null,null,false,0,null,{"$f":"U9+U11+U14+U16+U18","v":3},"verbal",null,"I S WR",{"$f":"IF(U9+U18+U14=3,5,0)","v":0},null,"BD OA PCn",null,{"$f":"IF(U8+U20+U12=3,5,0)","v":0}]
[null,null,null,null,null,11,{"$f":"IF(F18=\"\",\"\",IF(U18=0,\"(\"&F18&\")\",F18))","v":"(11)"},null,null,null,"",63,null,{"$f":"IF(AND(W16=3,AE20>0),\"The Performance IQ is based upon the following subtests:                      \"&CHOOSE(AE20,AC13,AC14,AC15,AC16,AC17,AC18,AC19),IF(AE20=0,\"The combination of Performance subtests chosen cannot be used to compute an IQ.\",\"\"))","v":"The Performance IQ is based upon the following subtests:                      BD MR PCn"},null,null,null,null,null,false,0,null,{"$f":"SUM(U8:U18)+U20","v":7},"total",null,"C V WR",{"$f":"IF(U16+U11+U14=3,6,0)","v":0},null,"PCmp MR PCn",null,{"$f":"IF(U17+U10+U12=3,6,0)","v":0}]
[null,null,null,"          (Receptive Vocabulary)",null,15,null,null,null,{"$f":"IF(F19=\"\",\"\",F19)","v":15},"",95,null,null,null,null,null,null,null,false,{"$f":"IF(T19=TRUE,1,0)","v":0},null,null,null,null,"S V WR",{"$f":"IF(U18+U11+U14=3,7,0)","v":0},null,"OA MR PCn",null,{"$f":"IF(U20+U10+U12=3,7,0)","v":0}]
[null,null,null,null,null,14,null,{"$f":"IF(F20=\"\",\"\",IF(U20=0,\"(\"&F20&\")\",F20))","v":"(14)"},null,null,"",91,null,null,null,null,null,null,null,false,0,null,null,null,null,"v combo",{"$f":"SUM(AA13:AA19)","v":1},null,null,"p combo",{"$f":"SUM(AE13:AE19)","v":1},"cd or ss",{"$f":"IF(U15=1,1,IF(U13=1,2,0))","v":1}]
[null,null,null,"          (Picture Naming)",null,12,null,null,null,{"$f":"IF(F21=\"\",\"\",F21)","v":12},null,75,null,null,null,null,null,null,null,true,1]
[]
[null,null,null,null,null,"Sums of Scaled Scores",{"$f":"SUM(G9:G18)","v":20},{"$f":"SUM(H8:H20)","v":23},{"$f":"SUM(I13:I15)","v":9},{"$f":"SUM(J19:J21)","v":27},{"$f":"SUM(K8:K20)","v":46},null,null,null,null,null,null,null,null,null,"i",{"$f":"IF(F9=\"\",\"\",1)","v":1},{"$f":"IF(F9=\"\",\"\",F9)","v":9},"bd",{"$f":"IF(F8=\"\",\"\",1)","v":1},{"$f":"IF(F8=\"\",\"\",F8)","v":10},"ss",{"$f":"IF(F13=\"\",\"\",1)","v":1},{"$f":"IF(F13=\"\",\"\",F13)","v":6},"RV",{"$f":"IF(F19=\"\",\"\",1)","v":1},{"$f":"IF(F19=\"\",\"\",F19)","v":15}]
["WPPSI III Interpretive Worksheet",null,null,null,null,null,null,null,null,null,null,null,null,null,null,null,null,null,null,null,"v",{"$f":"IF(F11=\"\",\"\",1)","v":1},{"$f":"IF(F11=\"\",\"\",F11)","v":7},"mr",{"$f":"IF(F10=\"\",\"\",1)","v":1},{"$f":"IF(F10=\"\",\"\",F10)","v":8},"cd",{"$f":"IF(F15=\"\",\"\",1)","v":1},{"$f":"IF(F15=\"\",\"\",F15)","v":3},"PN",{"$f":"IF(F21=\"\",\"\",1)","v":1},{"$f":"IF(F21=\"\",\"\",F21)","v":12}]
[null,"1. Evaluate the Full Scale IQ",null,null,null,null,null,null,null,null,null,null,null,null,null,null,null,null,null,null,"wr",{"$f":"IF(F14=\"\",\"\",1)","v":1},{"$f":"IF(F14=\"\",\"\",F14)","v":4},"pconc",{"$f":"IF(F12=\"\",\"\",1)","v":1},{"$f":"IF(F12=\"\",\"\",F12)","v":5},null,null,{"$f":"SUM(AC23:AC24)","v":9},null,null,{"$f":"SUM(AF23:AF24)","v":27}]
[null,null,"",null,null,null,null,"Obtained",null,"Percentile",null,"Confidence",null,null,null,null,null,null,null,null,"c",{"$f":"IF(F16=\"\",\"\",1)","v":1},{"$f":"IF(F16=\"\",\"\",F16)","v":2},"pcm",{"$f":"IF(F17=\"\",\"\",1)","v":1},{"$f":"IF(F17=\"\",\"\",F17)","v":1},null,{"$f":"SUM(AB23:AB25)","v":2},null,{"$f":"SUM(AE23:AE25)","v":2}]
[null,null,null,null,null,"  SS Totals",null," IQ",null,"Rank",null,"Bands",null,null,null,null,null,null,null,null,"s",{"$f":"IF(F18=\"\",\"\",1)","v":1},{"$f":"IF(F18=\"\",\"\",F18)","v":11},"oa",{"$f":"IF(F20=\"\",\"\",1)","v":1},{"$f":"IF(F20=\"\",\"\",F20)","v":14}]
[null,null,null,null,null,null,null,null,null,null,null,null,null,null,null,null,null,null,null,null,null,null,{"$f":"SUM(W23:W27)","v":33},null,null,{"$f":"SUM(Z23:Z27)","v":38}]
[null,null,null,"Verbal",null,{"$f":"IF(W17=3,\"(\"&W9&\")\",\"\")","v":"(20)"},null,81,null,{"$f":"IF(H29=\"\",\"\",LOOKUP(H29,B304:BG305))","v":10},null,{"$f":"IF(H29=\"\",\"\",(H29+(LOOKUP(H29,D380:O381))&\" - \"&(H29+(LOOKUP(H29,D380:O380,D382:O382)))))","v":"76 - 88"},null,{"$f":"IF(H29=\"\",\"\",LOOKUP((LOOKUP(H29,D380:K381)+H29),$D$378:$J$379)&\" to \"&LOOKUP((LOOKUP(H29,D380:K380,D382:K382)+H29),$D$378:$J$379))","v":"Borderline to Low Average"},null,null,null,null,null,null,null,null,null,null,{"$f":"SUM(Y23:Y27)","v":5}]
[null,null,null,"Performance",null,{"$f":"IF(W16=3,\"(\"&Y9&\")\",\"\")","v":"(23)"},null,84,null,{"$f":"IF(H30=\"\",\"\",LOOKUP(H30,B304:BG305))","v":14},null,{"$f":"IF(H30=\"\",\"\",(H30+(LOOKUP(H30,D383:R384))&\" - \"&(H30+(LOOKUP(H30,D383:R383,D385:R385)))))","v":"78 - 92"},null,{"$f":"IF(H30=\"\",\"\",LOOKUP((LOOKUP(H30,D383:K384)+H30),$D$378:$J$379)&\" to \"&LOOKUP((LOOKUP(H30,D383:R383,D385:R385)+H30),$D$378:$J$379))","v":"Borderline to Average"},null,null,null,null,null,null,null,{"$f":"SUM(V23:V27)","v":5},{"$f":"SUM(V23:V29)","v":5},null,{"$f":"SUM(Y23:Y27)","v":5},null,null,null,null,{"$f":"W30+Y30+AB26+AD26","v":14}]
[null,null,null," Full Scale",null,{"$f":"IF(W18=7,\"(\"&Z9&\")\",\"\")","v":"(46)"},null,77,null,{"$f":"IF(H31=\"\",\"\",LOOKUP(H31,B304:BG305))","v":6},null,{"$f":"IF(H31=\"\",\"\",(H31+(LOOKUP(H31,D386:M387))&\" - \"&(H31+(LOOKUP(H31,D386:M386,D388:M388)))))","v":"73 - 83"},null,{"$f":"IF(H31=\"\",\"\",LOOKUP((LOOKUP(H31,D386:I387)+H31),$D$378:$J$379)&\" to \"&LOOKUP((LOOKUP(H31,D386:I386,D388:I388)+H31),$D$378:$J$379))","v":"Borderline to Low Average"},null,null,null,null,null,null,"Vx=",{"$f":"W28/V30","v":6.6},{"$f":"W28/W30","v":6.6},{"$f":"SUM(W23:W29)","v":66},"Px=",{"$f":"Z28/Y30","v":7.6},null,{"$f":"SUM(W28+Z28+AC25+AF25)","v":107},"FSx=",{"$f":"AB31/AD30","v":7.6428571428571432},null,"vp diff",{"$f":"ABS(H29-H30)","v":3}]
[null,null,null,null,null,null,null,null,null,null,null,null,null,null,null,null,null,null,null,null,"v max",{"$f":"MAX(W23:W27)","v":11},null,"p max",{"$f":"MAX(Z23:Z27)","v":14},{"$f":"IF(V32=Y32,V32,IF(V32>Y32,V32,Y32))","v":14},null,null,null,null,null,null,{"$f":"LOOKUP(AG31,D323:AR323,D332:AR332)","v":81}]
[null,null,null,"Processing Speed",null,{"$f":"IF(AB26<2,\"\",\"(\"&AA9&\")\")","v":"(9)"},null,71,null,{"$f":"IF(H33=\"\",\"\",LOOKUP(H33,B304:BG305))","v":3},null,{"$f":"IF(H33=\"\",\"\",(H33+(LOOKUP(H33,D389:AA390))&\" - \"&(H33+(LOOKUP(H33,D389:AA389,D391:AA391)))))","v":"66 - 83"},null,{"$f":"IF(H33=\"\",\"\",LOOKUP((LOOKUP(H33,D392:R393)+H33),$D$378:$J$379)&\" to \"&LOOKUP((LOOKUP(H33,D392:R392,D394:R394)+H33),$D$378:$J$379))","v":"Extremely Low to Low Average"},null,null,null,null,null,null,"v min",{"$f":"MIN(W23:W27)","v":2},null,"p min",{"$f":"MIN(Z23:Z27)","v":1},{"$f":"IF(V33=Y33,V33,IF(V33<Y33,V33,Y33))","v":1},{"$f":"Z32-Z33","v":13}]
[null,null,null,"General Language Composite",null,{"$f":"IF(AD26<2,\"\",\"(\"&AC9&\")\")","v":"(27)"},null,118,null,{"$f":"IF(H34=\"\",\"\",LOOKUP(H34,B304:BG305))","v":88},null,{"$f":"IF(H34=\"\",\"\",(H34+(LOOKUP(H34,D392:V393))&\" - \"&(H34+(LOOKUP(H34,D392:V392,D394:V394)))))","v":"109 - 124"},null,{"$f":"IF(H34=\"\",\"\",LOOKUP((LOOKUP(H34,D389:M390)+H34),$D$378:$J$379)&\" to \"&LOOKUP((LOOKUP(H34,D389:M389,D391:M391)+H34),$D$378:$J$379))","v":"High Average to Superior"},null,null,null,null,null,null,"diff",{"$f":"ABS(V32-V33)","v":9},null,"diff",{"$f":"ABS(Y32-Y33)","v":13},null,"fs sc diff",{"$f":"AA33","v":13}]
[null,null,null,null,null,null,null,null,null,null,null,null,null,null,null,null,null,null,null,null,"v scat",{"$f":"IF(V30<6,\"\",IF(V30=6, LOOKUP(V34,D323:V323,D324:V324),LOOKUP(V34,D323:V323,D325:V325)))","v":""},null,"p scat",{"$f":"IF(Y30<4,\"\",LOOKUP(Y34,D323:V323,D326:V326))","v":6},null,"11fs scat",{"$f":"LOOKUP(AB34,D323:V323,D328:W328)","v":0.3},null,{"$f":"IF(AD30=14,AB37,IF(AD30=11,AB35,AB36))","v":0.8}]
[null,"2. Is the VIQ versus PIQ Significantly Different?",null,null,null,null,null,null,null,null,null,null,null,null,null,null,null,null,null,null,null,null,null,null,null,null,"1213fs scat",{"$f":"LOOKUP(AB34,D323:V323,D329:W329)","v":0.8}]
[null,null,null,null,null,null,null,null,null,null,null,null,null,null,null,null,null,null,null,null,null,null,null,null,null,null,"14fs scat",{"$f":"LOOKUP(AB34,D323:V323,D330:W330)","v":0.8}]
[null,null,null,null,null,"Significance",null,null,null,null,null,"Is there a significant difference?",null,null,null,null,null,null,null,null,null,null,null,null,{"$f":"IF(H29=H30,0,IF(H29>H30,1,2))","v":2}]
[null,null,null,{"$f":"\"VIQ (\"&H29&\") vs PIQ (\"&H30&\") Difference\"","v":"VIQ (81) vs PIQ (84) Difference"},null,"(p <  .01)",null,"(p < .05)",null,"none",null,null,null,null,null,null,null,null,null,{"$f":"ABS(H29-H30)","v":3},{"$f":"IF(T39=1,\" point\",\" points\")","v":" points"},null,null,null,{"$f":"IF(ABS(H29-H30)>8,1,-1)","v":-1}]
[null,null,null,{"$f":"IF(OR(H29=\"\",H30=\"\"),\"\",T39&U39)","v":"3 points"},null,"12 or more",null,"10 - 11",null,"0 - 9",null,{"$f":"IF(OR(H29=\"\",H30=\"\"),\"\",IF(T39>11, \"YES, p = .01\", IF(T39<9, \"NO\",\"YES, p = .05\")))","v":"NO"},null,null,null,null,null,null,null,{"$f":"IF(L40=\"NO\",0,1)","v":0},null,"Because there is no significant differences between the VIQ and PIQ, explain the meaning of the scales not being significantly different.",null,null,{"$f":"SUM(Y38+Y39)","v":1}]
[null,null,null,null,null,null,null,null,null,null,null,null,null,null,null,null,null,null,null,null,null,"Because there is a significant difference between the VIQ and PIQ, interpret the FSIQ with caution.  Examine further steps."]
[]
[null,null,null,{"$f":"IF(L40=\"\",\"\",IF(T40=0,V40,V41))","v":"Because there is no significant differences between the VIQ and PIQ, explain the meaning of the scales not being significantly different."}]
[]
[]
[]
[null,"3. Is the VIQ versus PIQ Difference Abnormally Large?"]
[null,null,null,null,null,null,null,null,null,null,null,null,null,null,null,null,null,null,null,null,null,null,1,2,3,4,5]
[null,null,{"$f":"\"VIQ (\"&H29&\") vs PIQ (\"&H30&\") Difference\"","v":"VIQ (81) vs PIQ (84) Difference"},null,null,"Size of Difference needed for abnormality",null,null,null,null,null,"Is Size of Difference Abnormal?",null,null,null,null,null,null,null,{"$f":"IF(H29=H30,0,IF(H29>H30,1,2))","v":2},{"$f":"IF(H31>119,5,IF(H31>109,4,IF(H31>89,3,IF(H31>79,2,1))))","v":1},1,20,20,16,21,18]
[null,null,{"$f":"D40&\" (\"&T50&\")\"","v":"3 points (V < P)"},null,null,{"$f":"INDEX(W49:AA50,T49,U49)","v":13},null,null,null,null,null,{"$f":"IF(D40=\"\",\"\",IF(T39<F50,\"NO\",\"YES\"))","v":"NO"},null,null,null,null,null,null,null,{"$f":"IF(H29=H30,\"V = P\",IF(H29>H30,\"V > P\",\"V < P\"))","v":"V < P"},"IQ group",2,13,15,17,18,18]
[]
[null,null,null,null,null,null,null,null,null,null,null,null,null,null,null,null,null,null,null,{"$f":"IF(L50=\"NO\",0,1)","v":0},null,"Because no abnormal differences are found, determine if the noted differences are interpretable."]
[null,null,null,{"$f":"IF(T52=0,V52,V53)","v":"Because no abnormal differences are found, determine if the noted differences are interpretable."},null,null,null,null,null,null,null,null,null,null,null,null,null,null,null,null,null,"Because an abnormal difference was found, explain the abnormally large V/P difference."]
[]
[]
[]
[null,"4. Is the VIQ versus PIQ discrepancy interpretable?"]
[]
[null,null,null,"A. Is there abnormal verbal scatter?",null,null,null,null,null,null,null,null,"Is there abnormal scatter?"]
[null,null,null,"Verbal Subtests High-Low Difference",null,null,null,null,"Normal",null,"Abnormal"]
[null,null,null,{"$f":"V34&U61","v":"9 points"},null,null,null,null,"0 - 5",null,"6 or more",null,{"$f":"IF(V34>5,\"YES\",\"NO\")","v":"YES"},null,null,null,null,null,null,null,{"$f":"IF(V34=1,\" point\",\" points\")","v":" points"}]
[]
[]
[null,null,null,"B. Is there abnormal performance scatter?",null,null,null,null,null,null,null,null,"Is there abnormal scatter?"]
[null,null,null,"Performance Subtests High-Low Difference",null,null,null,null,"Normal",null,"Abnormal",null,null,null,null,null,null,null,null,null,{"$f":"IF(M61=\"NO\",0,1)","v":1}]
[null,null,null,{"$f":"Y34&U67","v":"13 points"},null,null,null,null,"0 - 7",null,"8 or more",null,{"$f":"IF(Y34>7,\"YES\",\"NO\")","v":"YES"},null,null,null,null,null,null,null,{"$f":"IF(M66=\"NO\",0,1)","v":1},{"$f":"U65+U66","v":2},"Because each answers to A and B was NO, the VIQ versus PIQ discrepancy is interpretable. "]
[null,null,null,null,null,null,null,null,null,null,null,null,null,null,null,null,null,null,null,null,{"$f":"IF(Y34=1,\" point\",\" points\")","v":" points"},null,"Because an answer to either A or B was YES, the VIQ versus PIQ discrepancy differences should probably not be interpreted. "]
[]
[null,null,null,{"$f":"IF(V66=0,W66,W67)","v":"Because an answer to either A or B was YES, the VIQ versus PIQ discrepancy differences should probably not be interpreted. "}]
[]
[]
[]
[null,"5. Determine if the PS Index is interpretable."]
[]
[null,null,null,"A. Is there a significant difference between the PSI subtests?",null,null,null,null,null,null,null,null,"Is there abnormal scatter?"]
[null,null,null,{"$f":"IF(AB26=1,\"No Index Computed\",\"PSI Subtests [SS (\"&F13&\") Cd (\"&F15&\")] Difference \")","v":"PSI Subtests [SS (6) Cd (3)] Difference "},null,null,null,null,"Normal",null,"Abnormal",null,null,null,null,null,null,null,null,null,{"$f":"ABS(AC23-AC24)","v":3}]
[null,null,null,{"$f":"U76&U78","v":"3 points"},null,null,null,null,"0 - 3",null,"4 or more",null,{"$f":"IF(AB26<>2,\"\",IF(U76>3,\"YES\",\"NO\"))","v":"NO"},null,null,null,null,null,null,null,{"$f":"IF(M77=\"NO\",0,1)","v":0}]
[null,null,null,null,null,null,null,null,null,null,null,null,null,null,null,null,null,null,null,null,{"$f":"IF(U76=1,\" point\",\" points\")","v":" points"}]
[]
[null,null,null,{"$f":"IF(AB26<>2,\"No index computed\",IF(U77=0,\"The PSI may be interpreted.\",\"Because of subtest differences in the PSI, do not interpret PSI.\"))","v":"The PSI may be interpreted."}]
[]
[]
[null,"6. Interpret significant strengths and weaknesses."]
[null,null,null,null,null,null,"Verbal mean",null,null,null,{"$f":"V31","v":6.6},{"$f":"\"   based on \"&V30&\" subtests\"","v":"   based on 5 subtests"}]
[null,null,null,null,null,null,"Performance mean",null,null,null,{"$f":"Z31","v":7.6},{"$f":"\"   based on \"&Y30&\" subtests\"","v":"   based on 5 subtests"}]
[null,null,null,null,null,null,"Full Scale mean",null,null,null,{"$f":"AD31","v":7.6428571428571432},{"$f":"\"   based on \"&AD30&\" subtests\"","v":"   based on 14 subtests"}]
[]
[null,null,null,null,null,null,null," Verbal / Performance Statistics",null,null,null,null,null,"Full Scale Statistics"]
[null,null,null,null,null,"ss",null,null,"Crit. Value",null,"Deviation",null,null,"Crit. Value",null,"Deviation"]
[null,"Verbal",null,"Information",null,{"$f":"IF(F9=\"\",\"\",F9)","v":9},null,null,{"$f":"IF(F90=\"\",\"\",IF($W$30<3,\"\",2))","v":2},null,{"$f":"IF(F90=\"\",\"\",(F90-$K$84))","v":2.4000000000000004},{"$f":"IF(F90=\"\",\"\",IF(SUM(U90+V90)=4,\"s\",IF(SUM(U90+V90)=2,\"w\",\" \")))","v":"s"},null,{"$f":"IF(F90=\"\",\"\",IF($AD$30<7,\"\",3))","v":3},null,{"$f":"IF(N90=\"\",\"\",($F90-K$86))","v":1.3571428571428568},{"$f":"IF(F90=\"\",\"\",IF(SUM(W90+X90)=4,\"s\",IF(SUM(W90+X90)=2,\"w\",\"\")))","v":""},null,null,null,{"$f":"IF(ABS(K90)>I90,3,0)","v":3},{"$f":"SIGN(K90)","v":1},{"$f":"IF(ABS(P90)>N90,3,0)","v":0},{"$f":"SIGN(P90)","v":1},null,null,{"$f":"IF(W90=0,0,1)","v":0},{"$f":"Q90","v":""}]
[null,null,null,"Vocabulary",null,{"$f":"IF(F11=\"\",\"\",F11)","v":7},null,null,{"$f":"IF(F91=\"\",\"\",IF($W$30<3,\"\",2))","v":2},null,{"$f":"IF(F91=\"\",\"\",(F91-$K$84))","v":0.40000000000000036},{"$f":"IF(F91=\"\",\"\",IF(SUM(U91+V91)=4,\"s\",IF(SUM(U91+V91)=2,\"w\",\" \")))","v":" "},null,{"$f":"IF(F91=\"\",\"\",IF($AD$30<7,\"\",3))","v":3},null,{"$f":"IF(N91=\"\",\"\",($F91-K$86))","v":-0.64285714285714324},{"$f":"IF(F91=\"\",\"\",IF(SUM(W91+X91)=4,\"s\",IF(SUM(W91+X91)=2,\"w\",\"\")))","v":""},null,null,null,{"$f":"IF(ABS(K91)>I91,3,0)","v":0},{"$f":"SIGN(K91)","v":1},{"$f":"IF(ABS(P91)>N91,3,0)","v":0},{"$f":"SIGN(P91)","v":-1},null,null,{"$f":"IF(W91=0,0,1)","v":0},{"$f":"Q91","v":""}]
[null,null,null,"Word Reasoning",null,{"$f":"IF(F14=\"\",\"\",F14)","v":4},null,null,{"$f":"IF(F92=\"\",\"\",IF($W$30<3,\"\",2))","v":2},null,{"$f":"IF(F92=\"\",\"\",(F92-$K$84))","v":-2.5999999999999996},{"$f":"IF(F92=\"\",\"\",IF(SUM(U92+V92)=4,\"s\",IF(SUM(U92+V92)=2,\"w\",\" \")))","v":"w"},null,{"$f":"IF(F92=\"\",\"\",IF($AD$30<7,\"\",IF(AD30>12,3,2)))","v":3},null,{"$f":"IF(N92=\"\",\"\",($F92-K$86))","v":-3.6428571428571432},{"$f":"IF(F92=\"\",\"\",IF(SUM(W92+X92)=4,\"s\",IF(SUM(W92+X92)=2,\"w\",\"\")))","v":"w"},null,null,null,{"$f":"IF(ABS(K92)>I92,3,0)","v":3},{"$f":"SIGN(K92)","v":-1},{"$f":"IF(ABS(P92)>N92,3,0)","v":3},{"$f":"SIGN(P92)","v":-1},null,null,1,{"$f":"Q92","v":"w"},null,null,null,{"$f":"LOOKUP(#REF!,R335:W335,R336:W336)","v":{"$error":"#REF!"}},{"$f":"LOOKUP(#REF!,R337:W337,R338:W338)","v":{"$error":"#REF!"}},{"$f":"LOOKUP(#REF!,R339:W339,R340:W340)","v":{"$error":"#REF!"}},{"$f":"LOOKUP(#REF!,R341:W341,R342:W342)","v":{"$error":"#REF!"}},{"$f":"LOOKUP(#REF!,R343:W343,R344:W344)","v":{"$error":"#REF!"}},{"$f":"CHOOSE(AE36,AF92,AG92,AH92,AI92,AJ92)","v":{"$error":"#VALUE!"}}]
[null,null,null,"Comprehension",null,{"$f":"IF(F16=\"\",\"\",F16)","v":2},null,null,{"$f":"IF(F93=\"\",\"\",IF($W$30<3,\"\",2))","v":2},null,{"$f":"IF(F93=\"\",\"\",(F93-$K$84))","v":-4.5999999999999996},{"$f":"IF(F93=\"\",\"\",IF(SUM(U93+V93)=4,\"s\",IF(SUM(U93+V93)=2,\"w\",\" \")))","v":"w"},null,{"$f":"IF(F93=\"\",\"\",IF($AD$30<7,\"\",3))","v":3},null,{"$f":"IF(N93=\"\",\"\",($F93-K$86))","v":-5.6428571428571432},{"$f":"IF(F93=\"\",\"\",IF(SUM(W93+X93)=4,\"s\",IF(SUM(W93+X93)=2,\"w\",\"\")))","v":"w"},null,null,null,{"$f":"IF(ABS(K93)>I93,3,0)","v":3},{"$f":"SIGN(K93)","v":-1},{"$f":"IF(ABS(P93)>N93,3,0)","v":3},{"$f":"SIGN(P93)","v":-1},null,null,1,{"$f":"Q93","v":"w"},null,null,null,{"$f":"LOOKUP(#REF!,D335:I335,D336:I336)","v":{"$error":"#REF!"}},{"$f":"LOOKUP(#REF!,D337:I337,D338:I338)","v":{"$error":"#REF!"}},{"$f":"LOOKUP(#REF!,D339:I339,D340:I340)","v":{"$error":"#REF!"}},{"$f":"LOOKUP(#REF!,D341:I341,D342:I342)","v":{"$error":"#REF!"}},{"$f":"LOOKUP(#REF!,D343:I343,D344:I344)","v":{"$error":"#REF!"}},{"$f":"CHOOSE(AE36,AF93,AG93,AH93,AI93,AJ93)","v":{"$error":"#VALUE!"}}]
[null,null,null,"Similarities",null,{"$f":"IF(F18=\"\",\"\",F18)","v":11},null,null,{"$f":"IF(F94=\"\",\"\",IF($W$30<3,\"\",2))","v":2},null,{"$f":"IF(F94=\"\",\"\",(F94-$K$84))","v":4.4000000000000004},{"$f":"IF(F94=\"\",\"\",IF(SUM(U94+V94)=4,\"s\",IF(SUM(U94+V94)=2,\"w\",\" \")))","v":"s"},null,{"$f":"IF(F94=\"\",\"\",IF($AD$30<7,\"\",2))","v":2},null,{"$f":"IF(N94=\"\",\"\",($F94-K$86))","v":3.3571428571428568},{"$f":"IF(F94=\"\",\"\",IF(SUM(W94+X94)=4,\"s\",IF(SUM(W94+X94)=2,\"w\",\"\")))","v":"s"},null,null,null,{"$f":"IF(ABS(K94)>I94,3,0)","v":3},{"$f":"SIGN(K94)","v":1},{"$f":"IF(ABS(P94)>N94,3,0)","v":3},{"$f":"SIGN(P94)","v":1},null,null,1,{"$f":"Q94","v":"s"},null,null,null,{"$f":"LOOKUP(#REF!,K335:P335,K336:P336)","v":{"$error":"#REF!"}},{"$f":"LOOKUP(#REF!,K337:P337,K338:P338)","v":{"$error":"#REF!"}},{"$f":"LOOKUP(#REF!,K339:P339,K340:P340)","v":{"$error":"#REF!"}},{"$f":"LOOKUP(#REF!,K341:P341,K342:P342)","v":{"$error":"#REF!"}},{"$f":"LOOKUP(#REF!,K343:P343,K344:P344)","v":{"$error":"#REF!"}},{"$f":"CHOOSE(AE36,AF94,AG94,AH94,AI94,AJ94)","v":{"$error":"#VALUE!"}}]
[null,null,null,null,null,null,null,null,null,null,null,null,null,null,null,null,null,null,null,null,{"$f":"IF(ABS(K96)>I96,3,0)","v":0},{"$f":"SIGN(K96)","v":1},{"$f":"IF(ABS(P96)>N96,3,0)","v":0},{"$f":"SIGN(P96)","v":1},null,null,0,{"$f":"Q96","v":""}]
[null,"Performance",null,"Block Design",null,{"$f":"IF(F8=\"\",\"\",F8)","v":10},null,null,{"$f":"IF(F96=\"\",\"\",IF($Y$30<3,\"\",IF(Y30=5,3,2)))","v":3},null,{"$f":"IF(F96=\"\",\"\",(F96-$K$85))","v":2.4000000000000004},{"$f":"IF(F96=\"\",\"\",IF(SUM(U95+V95)=4,\"s\",IF(SUM(U95+V95)=2,\"w\",\" \")))","v":" "},null,{"$f":"IF(F96=\"\",\"\",IF($AD$30<7,\"\",3))","v":3},null,{"$f":"IF(N96=\"\",\"\",($F96-K$86))","v":2.3571428571428568},{"$f":"IF(F96=\"\",\"\",IF(SUM(W95+X95)=4,\"s\",IF(SUM(W95+X95)=2,\"w\",\"\")))","v":""},null,null,null,{"$f":"IF(ABS(K97)>I97,3,0)","v":0},{"$f":"SIGN(K97)","v":1},{"$f":"IF(ABS(P97)>N97,3,0)","v":0},{"$f":"SIGN(P97)","v":1},null,null,0,{"$f":"Q97","v":""}]
[null,null,null,"Matrix Reasoning",null,{"$f":"IF(F10=\"\",\"\",F10)","v":8},null,null,{"$f":"IF(F97=\"\",\"\",IF($W$30<3,\"\",2))","v":2},null,{"$f":"IF(F97=\"\",\"\",(F97-$K$85))","v":0.40000000000000036},{"$f":"IF(F97=\"\",\"\",IF(SUM(U96+V96)=4,\"s\",IF(SUM(U96+V96)=2,\"w\",\" \")))","v":" "},null,{"$f":"IF(F97=\"\",\"\",IF($AD$30<7,\"\",IF(AD36>7,3,2)))","v":2},null,{"$f":"IF(N97=\"\",\"\",($F97-K$86))","v":0.35714285714285676},{"$f":"IF(F97=\"\",\"\",IF(SUM(W96+X96)=4,\"s\",IF(SUM(W96+X96)=2,\"w\",\"\")))","v":""},null,null,null,{"$f":"IF(ABS(K98)>I98,3,0)","v":3},{"$f":"SIGN(K98)","v":-1},{"$f":"IF(ABS(P98)>N98,3,0)","v":3},{"$f":"SIGN(P98)","v":-1},null,null,1,{"$f":"Q98","v":"w"}]
[null,null,null,"Picture Concepts",null,{"$f":"IF(F12=\"\",\"\",F12)","v":5},null,null,{"$f":"IF(F98=\"\",\"\",IF($W$30<3,\"\",2))","v":2},null,{"$f":"IF(F98=\"\",\"\",(F98-$K$85))","v":-2.5999999999999996},{"$f":"IF(F98=\"\",\"\",IF(SUM(U97+V97)=4,\"s\",IF(SUM(U97+V97)=2,\"w\",\" \")))","v":"w"},null,{"$f":"IF(F98=\"\",\"\",IF($AD$30<7,\"\",IF(AD37>10,3,2)))","v":2},null,{"$f":"IF(N98=\"\",\"\",($F98-K$86))","v":-2.6428571428571432},{"$f":"IF(F98=\"\",\"\",IF(SUM(W97+X97)=4,\"s\",IF(SUM(W97+X97)=2,\"w\",\"\")))","v":"w"},null,null,null,{"$f":"IF(ABS(K99)>I99,3,0)","v":3},{"$f":"SIGN(K99)","v":-1},{"$f":"IF(ABS(P99)>N99,3,0)","v":3},{"$f":"SIGN(P99)","v":-1},null,null,1,{"$f":"Q99","v":"w"}]
[null,null,null,"Picture Completion",null,{"$f":"IF(F17=\"\",\"\",F17)","v":1},null,null,{"$f":"IF(F99=\"\",\"\",IF($W$30<3,\"\",2))","v":2},null,{"$f":"IF(F99=\"\",\"\",(F99-$K$85))","v":-6.6},{"$f":"IF(F99=\"\",\"\",IF(SUM(U98+V98)=4,\"s\",IF(SUM(U98+V98)=2,\"w\",\" \")))","v":"w"},null,{"$f":"IF(F99=\"\",\"\",IF($AD$30<7,\"\",IF(AD38>7,3,2)))","v":2},null,{"$f":"IF(N99=\"\",\"\",($F99-K$86))","v":-6.6428571428571432},{"$f":"IF(F99=\"\",\"\",IF(SUM(W98+X98)=4,\"s\",IF(SUM(W98+X98)=2,\"w\",\"\")))","v":"w"},null,null,null,{"$f":"IF(ABS(K100)>I100,3,0)","v":3},{"$f":"SIGN(K100)","v":1},{"$f":"IF(ABS(P100)>N100,3,0)","v":3},{"$f":"SIGN(P100)","v":1},null,null,1,{"$f":"Q100","v":"s"}]
[null,null,null,"Object Assembly",null,{"$f":"IF(F20=\"\",\"\",F20)","v":14},null,null,{"$f":"IF(F100=\"\",\"\",IF($Y$30<3,\"\",IF(Y30=5,3,2)))","v":3},null,{"$f":"IF(F100=\"\",\"\",(F100-$K$85))","v":6.4},{"$f":"IF(F100=\"\",\"\",IF(SUM(U99+V99)=4,\"s\",IF(SUM(U99+V99)=2,\"w\",\" \")))","v":"s"},null,{"$f":"IF(F100=\"\",\"\",IF($AD$30<7,\"\",3))","v":3},null,{"$f":"IF(N100=\"\",\"\",($F100-K$86))","v":6.3571428571428568},{"$f":"IF(F100=\"\",\"\",IF(SUM(W99+X99)=4,\"s\",IF(SUM(W99+X99)=2,\"w\",\"\")))","v":"s"},null,null,null,{"$f":"IF(ABS(K102)>I102,3,0)","v":0},{"$f":"SIGN(K102)","v":0},{"$f":"IF(ABS(P102)>N102,3,0)","v":0},{"$f":"SIGN(P102)","v":-1},null,null,0,{"$f":"Q102","v":""}]
[]
[null,"Pr.  Spd.",null,"Symbol Search",null,{"$f":"IF(F13=\"\",\"\",F13)","v":6},null,null,null,null,null,null,null,{"$f":"IF(F102=\"\",\"\",IF($AD$30<7,\"\",3))","v":3},null,{"$f":"IF(N102=\"\",\"\",($F102-K$86))","v":-1.6428571428571432},{"$f":"IF(F102=\"\",\"\",IF(SUM(W100+X100)=4,\"s\",IF(SUM(W100+X100)=2,\"w\",\"\")))","v":""},null,null,null,{"$f":"IF(ABS(K103)>I103,3,0)","v":0},{"$f":"SIGN(K103)","v":0},{"$f":"IF(ABS(P103)>N103,3,0)","v":3},{"$f":"SIGN(P103)","v":-1},null,null,1,{"$f":"Q103","v":"w"}]
[null,null,null,"Coding",null,{"$f":"IF(F15=\"\",\"\",F15)","v":3},null,null,null,null,null,{"$f":"IF(F103=\"\",\"\",IF(SUM(U102+V102)=4,\"s\",IF(SUM(U102+V102)=2,\"w\",\" \")))","v":" "},null,{"$f":"IF(F103=\"\",\"\",IF($AD$30<7,\"\",3))","v":3},null,{"$f":"IF(N103=\"\",\"\",($F103-K$86))","v":-4.6428571428571432},{"$f":"IF(F103=\"\",\"\",IF(SUM(W102+X102)=4,\"s\",IF(SUM(W102+X102)=2,\"w\",\"\")))","v":"w"},null,null,null,{"$f":"IF(ABS(K105)>I105,3,0)","v":0},{"$f":"SIGN(K105)","v":0},{"$f":"IF(ABS(P105)>N105,3,0)","v":3},{"$f":"SIGN(P105)","v":1},null,null,1]
[]
[null,"GL",null,"Receptive Vocabulary",null,{"$f":"IF(F19=\"\",\"\",F19)","v":15},null,null,null,null,null,null,null,{"$f":"IF(F105=\"\",\"\",IF($AD$30<7,\"\",3))","v":3},null,{"$f":"IF(N105=\"\",\"\",($F105-K$86))","v":7.3571428571428568},{"$f":"IF(F105=\"\",\"\",IF(SUM(W103+X103)=4,\"s\",IF(SUM(W103+X103)=2,\"w\",\"\")))","v":"s"},null,null,null,{"$f":"IF(ABS(K106)>I106,3,0)","v":0},{"$f":"SIGN(K106)","v":0},{"$f":"IF(ABS(P106)>N106,3,0)","v":3},{"$f":"SIGN(P106)","v":1},null,null,1]
[null,null,null,"Picture Naming",null,{"$f":"IF(F21=\"\",\"\",F21)","v":12},null,null,null,null,null,null,null,{"$f":"IF(F106=\"\",\"\",IF($AD$30<7,\"\",3))","v":3},null,{"$f":"IF(N106=\"\",\"\",($F106-K$86))","v":4.3571428571428568},{"$f":"IF(F106=\"\",\"\",IF(SUM(W105+X105)=4,\"s\",IF(SUM(W105+X105)=2,\"w\",\"\")))","v":"s"},null,null,null,null,null,null,null,null,null,{"$f":"SUM(AA90:AA96)","v":3}]
[null,null,null,null,null,null,null,null,null,null,null,null,null,null,null,null,null,null,null,null,null,null,null,null,null,null,{"$f":"SUM(AA97:AA105)","v":6},null,"  I","Ds","V","A","C","S"," PC"," PA"," BD"," OA","Dsm"]
[null,"7. Compare relevant subtest groupings for significance and base rate"]
[]
[null,null,{"$f":"\"Information (\"&F90&\") vs Receptive Vocabulary (\"&F105&\")\"","v":"Information (9) vs Receptive Vocabulary (15)"},null,null,null,null,"Normal",null,"Abnormal",null,null,"Is there an abnormal difference?",null,null,null,null,null,null,null,{"$f":"IF(F90=F105,1,IF(F90>F105,2,3))","v":3},{"$f":"CHOOSE(U110,\"IN = RV\",\"IN > RV\",\"IN < RV\")","v":"IN < RV"}]
[null,null,{"$f":"V111&\" point \"&W111&\" difference\"","v":"6 point significant difference"},null,null,null,null,"0 - 3",null,"4 or more",null,null,{"$f":"IF(V111>3,\"YES\",\"NO\")","v":"YES"},null,null,null,null,null,null,null,null,{"$f":"ABS(F90-F105)","v":6},{"$f":"IF(V111>2,\"significant\",\"nonsignificant\")","v":"significant"}]
[]
[null,null,{"$f":"\"Object Assembly (\"&F100&\") vs Block Design (\"&F96&\")\"","v":"Object Assembly (14) vs Block Design (10)"},null,null,null,null,"Normal",null,"Abnormal",null,null,"Is there an abnormal difference?",null,null,null,null,null,null,null,{"$f":"IF(F100=F96,1,IF(F100>F96,2,3))","v":2},{"$f":"CHOOSE(U113,\"OA = BD\",\"OA > BD\",\"OA < BD\")","v":"OA > BD"}]
[null,null,{"$f":"V114&\" point \"&W114&\" difference\"","v":"4 point significant difference"},null,null,null,null,"0 - 4",null,"5 or more",null,null,{"$f":"IF(V114>4,\"YES\",\"NO\")","v":"NO"},null,null,null,null,null,null,null,null,{"$f":"ABS(F100-F96)","v":4},{"$f":"IF(V114>3,\"significant\",\"nonsignificant\")","v":"significant"}]
[]
[null,null,{"$f":"\"Coding (\"&F103&\") vs Symbol Search (\"&F102&\")\"","v":"Coding (3) vs Symbol Search (6)"},null,null,null,null,"Normal",null,"Abnormal",null,null,"Is there an abnormal difference?",null,null,null,null,null,null,null,{"$f":"IF(F103=F102,1,IF(F103>F102,2,3))","v":3},{"$f":"CHOOSE(U116,\"CD = SS\",\"CD > SS\",\"CD < SS\")","v":"CD < SS"}]
[null,null,{"$f":"V117&\" point \"&W117&\" difference\"","v":"3 point nonsignificant difference"},null,null,null,null,"0 - 3",null,"4 or more",null,null,{"$f":"IF(V117>3,\"YES\",\"NO\")","v":"NO"},null,null,null,null,null,null,null,null,{"$f":"ABS(F103-F102)","v":3},{"$f":"IF(V117>3,\"significant\",\"nonsignificant\")","v":"nonsignificant"}]
[]
[null,null,{"$f":"\"Receptive Vocabulary (\"&F105&\") vs Picture Naming (\"&F106&\")\"","v":"Receptive Vocabulary (15) vs Picture Naming (12)"},null,null,null,null,"Normal",null,"Abnormal",null,null,"Is there an abnormal difference?",null,null,null,null,null,null,null,{"$f":"IF(F105=F106,1,IF(F105>F106,2,3))","v":2},{"$f":"CHOOSE(U119,\"RV = PN\",\"RV > PN\",\"RV < PN\")","v":"RV > PN"}]
[null,null,{"$f":"V120&\" point \"&W120&\" difference\"","v":"3 point significant difference"},null,null,null,null,"0 - 3",null,"4 or more",null,null,{"$f":"IF(V120>3,\"YES\",\"NO\")","v":"NO"},null,null,null,null,null,null,null,null,{"$f":"ABS(F105-F106)","v":3},{"$f":"IF(V120>2,\"significant\",\"nonsignificant\")","v":"significant"}]
[]
[null,null,{"$f":"\"Similarities (\"&F94&\") vs Picture Concepts (\"&F98&\")\"","v":"Similarities (11) vs Picture Concepts (5)"},null,null,null,null,"Normal",null,"Abnormal",null,null,"Is there an abnormal difference?",null,null,null,null,null,null,null,{"$f":"IF(F94=F98,1,IF(F94>F98,2,3))","v":2},{"$f":"CHOOSE(U122,\"SI = PCn\",\"SI > PCn\",\"SI < PCn\")","v":"SI > PCn"}]
[null,null,{"$f":"V123&\" point \"&W123&\" difference\"","v":"6 point significant difference"},null,null,null,null,"0 - 4",null,"5 or more",null,null,{"$f":"IF(V123>4,\"YES\",\"NO\")","v":"YES"},null,null,null,null,null,null,null,null,{"$f":"ABS(F94-F98)","v":6},{"$f":"IF(V123>2,\"significant\",\"nonsignificant\")","v":"significant"}]
[]
[]
[null,"7. Compare other subtest groupings for significance"]
[]
[null,null,{"$f":"\"Vocabulary (\"&F91&\") vs Receptive Vocabulary (\"&F105&\")\"","v":"Vocabulary (7) vs Receptive Vocabulary (15)"},null,null,null,null,null,null,{"$f":"\"Information (\"&F90&\") vs Comprehension (\"&F93&\")\"","v":"Information (9) vs Comprehension (2)"},null,null,null,null,null,null,null,null,null,null,{"$f":"IF(F91=F105,1,IF(F91>F105,2,3))","v":3},{"$f":"CHOOSE(U128,\"VO = RV\",\"VO > RV\",\"VO < RV\")","v":"VO < RV"}]
[null,null,{"$f":"V129&\" point \"&W129&\" difference\"","v":"8 point significant difference"},null,null,null,null,null,null,{"$f":"V135&\" point \"&W135&\" difference\"","v":"7 point significant difference"},null,null,null,null,null,null,null,null,null,null,null,{"$f":"ABS(F91-F105)","v":8},{"$f":"IF(V129>2,\"significant\",\"nonsignificant\")","v":"significant"}]
[]
[null,null,{"$f":"\"Vocabulary (\"&F91&\") vs Picture Naming (\"&F106&\")\"","v":"Vocabulary (7) vs Picture Naming (12)"},null,null,null,null,null,null,{"$f":"\"Matrix Reasoning (\"&F97&\") vs Block Design (\"&F96&\")\"","v":"Matrix Reasoning (8) vs Block Design (10)"},null,null,null,null,null,null,null,null,null,null,{"$f":"IF(F91=F106,1,IF(F91>F106,2,3))","v":3},{"$f":"CHOOSE(U131,\"VO = PN\",\"VO > PN\",\"VO < PN\")","v":"VO < PN"}]
[null,null,{"$f":"V132&\" point \"&W132&\" difference\"","v":"5 point significant difference"},null,null,null,null,null,null,{"$f":"V138&\" point \"&W138&\" difference\"","v":"2 point nonsignificant difference"},null,null,null,null,null,null,null,null,null,null,null,{"$f":"ABS(F91-F106)","v":5},{"$f":"IF(V132>2,\"significant\",\"nonsignificant\")","v":"significant"}]
[]
[null,null,null,null,null,null,null,null,null,null,null,null,null,null,null,null,null,null,null,null,{"$f":"IF(F90=F93,1,IF(F90>F93,2,3))","v":2},{"$f":"CHOOSE(U134,\"IN = CO\",\"IN > CO\",\"IN < CO\")","v":"IN > CO"}]
[null,null,null,null,null,null,null,null,null,null,null,null,null,null,null,null,null,null,null,null,null,{"$f":"ABS(F90-F93)","v":7},{"$f":"IF(V135>2,\"significant\",\"nonsignificant\")","v":"significant"}]
[]
[null,null,null,null,null,null,null,null,null,null,null,null,null,null,null,null,null,null,null,null,{"$f":"IF(F97=F96,1,IF(F97>F96,2,3))","v":3},{"$f":"CHOOSE(U137,\"MR = BD\",\"MR > BD\",\"MR < BD\")","v":"MR < BD"}]
[null,null,null,null,null,null,null,null,null,null,null,null,null,null,null,null,null,null,null,null,null,{"$f":"ABS(F97-F96)","v":2},{"$f":"IF(V138>2,\"significant\",\"nonsignificant\")","v":"nonsignificant"}]
[]
[]
[]
[]
[]
[]
[]
[]
[]
[]
[]
[]
[null,null,null,null,null,null,null,null,null,null,null,null,null,null,null,null,null,null,null,null,null,null,null,null,null,null,null,null,{"$f":"IF(ABS(L151)>8,3,0)","v":0},null,{"$f":"SIGN(L151)","v":0}]
[null,null,null,null,null,null,null,null,null,null,null,null,null,null,null,null,null,null,null,null,null,null,null,null,null,null,null,null,{"$f":"IF(ABS(L152)>10,3,0)","v":0},null,{"$f":"SIGN(L152)","v":0}]
[null,null,null,null,null,null,null,null,null,null,null,null,null,null,null,null,null,null,null,null,null,null,null,null,null,null,null,null,{"$f":"IF(ABS(L153)>10,3,0)","v":0},null,{"$f":"SIGN(L153)","v":0}]
[]
[null,null,null,null,null,null,null,null,null,null,null,null,null,null,null,null,null,null,null,null,null,null,null,null,null,null,null,null,{"$f":"IF(ABS(M53)>9,3,0)","v":0},null,{"$f":"SIGN(M53)","v":0}]
[null,null,null,null,null,null,null,null,null,null,null,null,null,null,null,null,null,null,null,null,null,null,null,null,null,null,null,null,{"$f":"IF(ABS(M54)>10,3,0)","v":0},null,{"$f":"SIGN(M54)","v":0}]
[null,null,null,null,null,null,null,null,null,null,null,null,null,null,null,null,null,null,null,null,null,null,null,null,null,null,null,null,{"$f":"IF(ABS(M55)>10,3,0)","v":0},null,{"$f":"SIGN(M55)","v":0}]
[null,null,null,null,null,null,null,null,null,null,null,null,null,null,null,null,null,null,null,null,null,null,null,null,null,null,null,null,{"$f":"IF(ABS(L158)>8,3,0)","v":0},null,{"$f":"SIGN(L158)","v":0}]
[]
[null,null,null,null,null,null,null,null,null,null,null,null,null,null,null,null,null,null,null,null,null,null,null,null,null,null,null,null,{"$f":"IF(ABS(L160)>8,3,0)","v":0},null,{"$f":"SIGN(L160)","v":0}]
[null,null,null,null,null,null,null,null,null,null,null,null,null,null,null,null,null,null,null,null,null,null,null,null,null,null,null,null,{"$f":"IF(ABS(L161)>7,3,0)","v":0},null,{"$f":"SIGN(L161)","v":0}]
[null,null,null,null,null,null,null,null,null,null,null,null,null,null,null,null,null,null,null,null,null,null,null,null,null,null,null,null,{"$f":"IF(ABS(L162)>8,3,0)","v":0},null,{"$f":"SIGN(L162)","v":0}]
[]
[null,null,null,null,null,null,null,null,null,null,null,null,null,null,null,null,null,null,null,null,null,null,null,null,null,null,null,null,{"$f":"IF(ABS(I164-I165)>10.5,3,0)","v":0},null,{"$f":"SIGN(L164)","v":0}]
[null,null,null,null,null,null,null,null,null,null,null,null,null,null,null,null,null,null,null,null,null,null,null,null,null,null,null,null,{"$f":"IF(ABS(I164-I165)>10.5,3,0)","v":0},null,{"$f":"SIGN(L165)","v":0}]
[]
[null,null,null,null,null,null,null,null,null,null,null,null,null,null,null,null,null,null,null,null,null,null,null,null,null,null,null,null,{"$f":"IF(ABS(J59-L60)>16.5,3,0)","v":0},null,{"$f":"SIGN(M59)","v":{"$error":"#VALUE!"}}]
[null,null,null,null,null,null,null,null,null,null,null,null,null,null,null,null,null,null,null,null,null,null,null,null,null,null,null,null,{"$f":"IF(ABS(J59-L60)>16.5,3,0)","v":0},null,{"$f":"SIGN(M60)","v":0}]
[null,null,null,null,null,null,null,null,null,null,null,null,null,null,null,null,null,null,null,null,null,null,null,null,null,null,null,null,{"$f":"IF(ABS(L61-I170)>16.5,3,0)","v":0},null,{"$f":"SIGN(M61)","v":{"$error":"#VALUE!"}}]
[null,null,null,null,null,null,null,null,null,null,null,null,null,null,null,null,null,null,null,null,null,null,null,null,null,null,null,null,{"$f":"IF(ABS(L61-I170)>16.5,3,0)","v":0},null,{"$f":"SIGN(L170)","v":0}]
[null,null,null,null,null,null,null,null,null,null,null,null,null,null,null,null,null,null,null,null,null,null,null,null,null,null,null,null,{"$f":"IF(ABS(I171-I172)>18,3,0)","v":0},null,0]
[null,null,null,null,null,null,null,null,null,null,null,null,null,null,null,null,null,null,null,null,null,null,null,null,null,null,null,null,{"$f":"IF(ABS(I171-I172)>18,3,0)","v":0},null,0]
[null,null,null,null,null,null,null,null,null,null,null,null,null,null,null,null,null,null,null,null,null,null,null,null,null,null,null,null,{"$f":"IF(ABS(I173-I174)>16.5,3,0)","v":0},null,0]
[null,null,null,null,null,null,null,null,null,null,null,null,null,null,null,null,null,null,null,null,null,null,null,null,null,null,null,null,{"$f":"IF(ABS(I173-I174)>16.5,3,0)","v":0},null,0]
[null,null,null,null,null,null,null,null,null,null,null,null,null,null,null,null,null,null,null,null,null,null,null,null,null,null,null,null,{"$f":"IF(ABS(I175-I176)>18.5,3,0)","v":0},null,0]
[null,null,null,null,null,null,null,null,null,null,null,null,null,null,null,null,null,null,null,null,null,null,null,null,null,null,null,null,{"$f":"IF(ABS(I175-I176)>18.5,3,0)","v":0},null,0]
[null,null,null,null,null,null,null,null,null,null,null,null,null,null,null,null,null,null,null,null,null,null,null,null,null,null,null,null,{"$f":"IF(ABS(I177-#REF!)>16.5,3,0)","v":{"$error":"#REF!"}},null,0]
[null,null,null,null,null,null,null,null,null,null,null,null,null,null,null,null,null,null,null,null,null,null,null,null,null,null,null,null,{"$f":"IF(ABS(I177-#REF!)>16.5,3,0)","v":{"$error":"#REF!"}},null,{"$f":"SIGN(M64)","v":{"$error":"#VALUE!"}}]
[]
[null,null,null,null,null,null,null,null,null,null,null,null,null,null,null,null,null,null,null,null,null,null,null,null,null,null,null,null,{"$f":"IF(ABS(L66-J67)>15.5,3,0)","v":0},null,{"$f":"SIGN(M66)","v":{"$error":"#VALUE!"}}]
[null,null,null,null,null,null,null,null,null,null,null,null,null,null,null,null,null,null,null,null,null,null,null,null,null,null,null,null,{"$f":"IF(ABS(L66-J67)>15.5,3,0)","v":0},null,0]
[null,null,null,null,null,null,null,null,null,null,null,null,null,null,null,null,null,null,null,null,null,null,null,null,null,null,null,null,{"$f":"IF(ABS(J68-J69)>12.5,3,0)","v":0},null,0]
[null,null,null,null,null,null,null,null,null,null,null,null,null,null,null,null,null,null,null,null,null,null,null,null,null,null,null,null,{"$f":"IF(ABS(J68-J69)>12.5,3,0)","v":0},null,0]
[null,null,null,null,null,null,null,null,null,null,null,null,null,null,null,null,null,null,null,null,null,null,null,null,null,null,null,null,{"$f":"IF(ABS(J70-J71)>16.5,3,0)","v":0},null,0]
[null,null,null,null,null,null,null,null,null,null,null,null,null,null,null,null,null,null,null,null,null,null,null,null,null,null,null,null,{"$f":"IF(ABS(J70-J71)>16.5,3,0)","v":0},null,0]
[null,null,null,null,null,null,null,null,null,null,null,null,null,null,null,null,null,null,null,null,null,null,null,null,null,null,null,null,{"$f":"IF(ABS(I186-I187)>15.5,3,0)","v":0},null,{"$f":"SIGN(L186)","v":0}]
[null,null,null,null,null,null,null,null,null,null,null,null,null,null,null,null,null,null,null,null,null,null,null,null,null,null,null,null,{"$f":"IF(ABS(I186-I187)>15.5,3,0)","v":0},null,0]
[null,null,null,null,null,null,null,null,null,null,null,null,null,null,null,null,null,null,null,null,null,null,null,null,null,null,null,null,{"$f":"IF(ABS(I188-I189)>15,3,0)","v":0},null,0]
[null,null,null,null,null,null,null,null,null,null,null,null,null,null,null,null,null,null,null,null,null,null,null,null,null,null,null,null,{"$f":"IF(ABS(I188-I189)>15,3,0)","v":0},null,0]
[null,null,null,null,null,null,null,null,null,null,null,null,null,null,null,null,null,null,null,null,null,null,null,null,null,null,null,null,{"$f":"IF(ABS(I190-I191)>17.5,3,0)","v":0},null,0]
[null,null,null,null,null,null,null,null,null,null,null,null,null,null,null,null,null,null,null,null,null,null,null,null,null,null,null,null,{"$f":"IF(ABS(I190-I191)>17.5,3,0)","v":0},null,0]
[]
[]
[]
[]
[]
[]
[]
[]
[]
[]
[]
[]
[]
[]
[]
[]
[]
[]
[]
[]
[]
[]
[]
[]
[]
[]
[]
[]
[]
[]
[]
[]
[]
[]
[]
[]
[]
[]
[]
[]
[]
[]
[]
[]
[]
[]
[]
[]
[]
[]
[]
[]
[]
[]
[]
[]
[]
[]
[]
[]
[]
[]
[]
[]
[]
[]
[]
[]
[]
[]
[]
[]
[]
[]
[]
[]
[]
[]
[]
[]
[]
[]
[]
[]
[]
[]
[]
[]
[]
[]
[]
[]
[]
[]
[]
[]
[]
[]
[]
[]
[]
[]
[]
[null,null,null,null,null,null,null,null,""]
[]
[null,null,null,null,null,null,null,null,null,null,null,null,null,null,null,null,null,null,null,null,null,null,null,null,null,null,null,null,null,null,null,null,null,null,null,null,null,null,null,null,null,null,null,null,null,null,null,null,"",""]
[null,null,null,null,null,null,null,null,null,null,null,null,null,null,null,null,null,null,null,null,null,null,null,null,null,null,null,null,null,null,null,null,null,null,null,null,null,null,null,null,null,null,null,null,null,null,null,null,{"$f":"$I$188","v":0},{"$f":"$I$189","v":0}]
[null,null,null,null,null,null,null,null,null,null,null,null,null,null,null,null,null,null,null,null,null,null,null,null,null,null,null,null,null,null,null,null,null,null,null,null,null,null,null,null,null,null,null,null,null,null,null,"","Aud. Mem.","Rep.",""]
[null,null,null,null,null,null,null,null,null,null,null,null,null,null,null,null,null,null,null,null,null,null,null,null,null,null,null,null,null,null,null,null,null,null,null,null,null,null,null,null,null,null,null,null,null,null,null,null,{"$f":"AVERAGE($AW$298:$AX$298)","v":0},{"$f":"AVERAGE($AW$298:$AX$298)","v":0}]
[]
[]
[]
["SS",40,62,68,71,73,75,77,78,79,80,81,82,83,84,85,86,87,88,89,90,91,92,93,94,95,96,97,98,99,100,101,102,103,104,105,106,107,108,109,110,111,112,113,114,115,116,117,118,119,120,121,122,123,124,126,129,131,133]
["%ile",1,1,2,3,4,5,6,7,8,9,10,12,13,14,16,18,19,21,23,25,27,30,32,34,37,39,42,45,47,50,53,55,58,61,63,66,68,70,73,75,77,79,81,82,84,86,87,88,90,91,92,93,94,95,96,97,98,99]
[]
[]
[null,null,"vp",1,12,13,14,15,16,17,18,19,20,21,22,23,24,25,26,27,28,31,34]
[null,null,"%",50,34,31,28,24,22,18,16,14,12,10,8,7,6,5,4,3,2,1,0.5]
[null,null,"SS",1,2,3,4,5,6,7,8,9,10,11,12,13,14,15,16,17,18,19]
[null,null,"%",0.1,0.4,1,2,5,9,16,25,37,50,63,75,84,91,95,98,99,99.599999999999,99.9]
[null,null,"Vss",6,7,8,9,10,11,12,13,14,15,16,17,18,19,20,21,22,23,24,25,26,27,28,29,30,31,32,33,34,35,36,37,38,39,40,41,42,43,44,45,46,47,48,49,50,51,52,53,54,55,56,57,58,59,60,61,62,63,64,65,66,67,68,69,70,71,72,73,74,75,76,77,78,79,80,81,82,83,84,85,86,87,88,89,90,91,92,93,94]
[null,null,"VIQ",45,46,47,49,50,51,52,54,55,57,58,59,60,62,64,65,66,67,68,69,70,72,73,74,75,77,78,79,80,81,82,84,85,86,87,88,90,91,92,94,95,96,97,98,100,101,102,103,105,106,107,108,109,111,112,113,114,115,117,118,119,120,122,123,124,125,127,128,130,131,133,135,136,137,139,140,141,142,143,145,146,147,149,150,152,153,154,155,{"$f":"155","v":155}]
[null,null,"%",1,1,1,1,1,1,1,1,1,1,1,1,1,1,1,1,1,1,2,2,2,2,4,4,5,6,7,8,9,10,12,12,16,18,19,21,25,27,30,34,37,40,42,45,50,53,55,58,63,66,68,70,73,77,79,81,82,84,87,66,90,91,93,94,95,96,97,97,98,98,99,99,99,99,99,99,99,99,99,99,99,99,99,99,99,99,99,99,99]
[null,null,"Pss",9,10,11,12,13,14,15,16,17,18,19,20,21,22,23,24,25,26,27,28,29,30,31,32,33,34,35,36,37,38,39,40,41,42,43,44,45,46,47,48,49,50,51,52,53,54,55,56,57,58,59,60,61,62,63,64,65,66,67,68,69,70,71,72,73,74,75,76,77,78,79,80,81,82,83,84,85,86,87,88,89,90]
[null,null,"PIQ",45,46,48,49,51,52,54,55,57,58,60,61,63,64,65,67,68,69,70,71,72,73,74,75,77,78,80,81,82,84,85,86,87,88,90,91,92,93,95,96,98,100,101,102,104,105,106,108,109,111,112,114,115,117,118,120,121,123,124,126,128,129,130,131,132,133,135,136,138,139,141,142,143,145,146,147,149,150,151,152,154,155]
[null,null,"%",1,1,1,1,1,1,1,1,1,1,1,1,1,1,1,1,2,2,2,3,3,4,5,5,6,7,9,10,12,14,16,18,19,21,25,27,30,32,36,40,45,50,53,55,61,63,66,70,73,77,79,82,84,87,88,91,92,94,95,96,97,97,98,98,98,99,99,99,99,99,99,99,99,99,99,99,99,99,99,99,99,99]
[null,null,"Fss",15,16,18,19,20,22,23,24,26,27,28,30,31,33,34,35,37,38,39,40,42,43,44,45,46,48,49,50,51,53,55,57,59,61,62,64,65,67,68,70,71,73,75,76,77,79,81,82,84,85,87,88,90,92,93,94,95,97,98,99,100,102,104,106,107,108,110,111,112,113,115,116,117,119,120,121,122,123,124,126,127,128,130,131,133,134,135,137,138,140,141,142,143,144,146,147,148,149,150,151,153,154,156,158,159,161,163,164,166,167,168,170,171,173,174,176,177,179,181,182,184]
[null,null,"FIQ",40,41,42,43,44,45,46,47,48,49,50,51,52,53,54,55,56,57,58,59,60,61,62,63,64,65,66,67,68,69,70,71,72,73,74,75,76,77,78,79,80,81,82,83,84,85,86,87,88,89,90,91,92,93,94,95,96,97,98,99,100,101,102,103,104,105,106,107,108,109,110,111,112,113,114,115,116,117,118,119,120,121,122,123,124,125,126,127,128,129,130,131,132,133,134,135,136,137,138,139,140,141,142,143,144,145,146,146,147,149,150,151,152,153,154,155,156,157,158,159,160]
[null,null,"%",1,1,1,1,1,1,1,1,1,1,1,1,1,1,1,1,1,1,1,1,1,1,1,1,1,1,1,1,2,2,2,3,3,4,4,5,5,6,7,8,9,10,12,13,14,16,18,19,21,23,25,27,30,32,34,37,40,42,45,47,50,53,55,58,61,63,66,68,70,73,75,77,79,81,82,84,86,87,88,90,91,92,93,94,95,95,96,96,97,97,98,98,98,99,99,99,99,99,99,99,99,99,99,99,99,99,99,99,99,99,99,99,99,99,99,99,99,99,99,99,99]
[null,null,null,0,70,80,90,111,120,130]
[null,null,null,"ExtLow","BL","LA","AVE","HAVE","SUP","VSUP"]
[null,null,"Scatter",0,1,2,3,4,5,6,7,8,9,10,11,12,13,14,15,16,17,18,19,20,21,22,23,24,25,26,27,28,29,30,31,32,33,34,35,36,37,38,39,40]
[null,null,"v6 scat%",100,100,98.4,90.3,72.8,50.4,31.3,17.2,7.9,3.7,1.8,0.6,0.2,0,0,0,0,0,0]
[null,null,"v7 scat%",100,100,99.3,95,82.4,61.7,41.4,24.4,11.5,5.0999999999999996,1.8,0.9,0.3,0.2,0.2,0,0,0,0]
[null,null,"p5 Scat%",100,99.9,98.4,90,74.900000000000006,56.5,37.5,23,12.3,5.4,2.2999999999999998,1.1000000000000001,0.4,6,5,3.6,2.6,1.3,0.7]
[null,null,"p7 Scat%",100,100,99.7,96.8,87.3,70.099999999999994,50.7,32.4,18.2,8.9,4.2,1.9,0.8,0.3,0.2,0.2,0,0,0]
[null,null,"IQ 11 scat Scat%",100,100,99.9,99.6,96.7,87.2,71.2,50.9,32.200000000000003,17.399999999999999,8.1,3.1,1.2,0.3,0.1,0,0,0,0,0]
[null,null,"IQ 13 scat Scat%",100,100,100,99.8,98.5,92.3,79,58,37.700000000000003,21.5,10.199999999999999,4.2,1.9,0.8,0.4,0.3,0.2,0.1,0,0]
[null,null,"IQ 14 scat Scat%",100,100,100,100,99,94.6,82.2,63.8,42.5,23.9,11.5,5,2.4,0.8,0.4,0.3,0.2,0.1,0.1,0]
[]
[null,null,"vp diff",100,97,88,81,73,66,60,54,48,43,37,32,28,24,20,19,16,13,11,9,7,6,5,4,3,3,2,2,1,1,1,1,1,1,0.4,0.3,0.3,0.3,0.2,0.2,0.1]
[null,null,"p7 Scat%",100,100,99.7,96.8,87.3,70.099999999999994,50.7,32.4,18.2,8.9,4.2,1.9,0.8,0.3,0.2,0.2,0,0,0]
[null,null,"p7 Scat%",100,100,99.7,96.8,87.3,70.099999999999994,50.7,32.4,18.2,8.9,4.2,1.9,0.8,0.3,0.2,0.2,0,0,0]
[]
[null,null,"Pairs",1,2,5,10,25,50,null,null,null,null,"free rc",1,2,5,10,25,50,null,null,null,null,"copy",1,2,5,10,25,50]
[null,null,16,0,4,7,9,13,15,null,{"$f":"IF($O$8=\"\",\"\",LOOKUP($O$8,D337:I337,$D$336:$I$336))","v":""},{"$f":"LOOKUP(N2,C337:C349,K337:K349)","v":{"$error":"#N/A"}},null,16,0,5,6,6,7,8,null,{"$f":"IF($O$9=\"\",\"\",LOOKUP($O$9,O337:T337,$D$336:$I$336))","v":""},{"$f":"LOOKUP(N2,N337:N349,V337:V349)","v":{"$error":"#N/A"}},null,16,0,63,81,92,109,124,null,{"$f":"IF($O$10=\"\",\"\",LOOKUP($O$10,Z337:AE337,$D$336:$I$336))","v":""},{"$f":"LOOKUP(N2,Y337:Y349,AG337:AG349)","v":{"$error":"#N/A"}}]
[null,null,18,0,4,6,9,12,15,null,"",null,null,18,0,4,5,6,7,8,null,"",null,null,18,0,49,77,102,116,131,null,""]
[null,null,20,0,2,5,7,11,14,null,"",null,null,20,0,4,5,6,7,8,null,"",null,null,20,0,60,82,93,110,130,null,""]
[null,null,25,0,5,6,9,11,14,null,"",null,null,25,0,5,5,6,7,8,null,"",null,null,25,0,77,84,92,111,129,null,""]
[null,null,30,0,4,7,8,10,14,null,"",null,null,30,0,5,5,6,7,8,null,"",null,null,30,0,66,82,93,108,123,null,""]
[null,null,35,0,4,5,6,10,13,null,"",null,null,35,0,5,5,6,6,7,null,"",null,null,35,0,53,75,90,106,124,null,""]
[null,null,45,0,2,4,6,9,12,null,"",null,null,45,0,4,5,5,6,7,null,"",null,null,45,0,43,73,82,99,114,null,""]
[null,null,55,0,2,3,4,8,10,null,"",null,null,55,0,3,4,5,6,7,null,"",null,null,55,0,27,53,65,83,102,null,""]
[null,null,65,0,2,3,4,6,8,null,"",null,null,65,0,2,4,5,6,7,null,"",null,null,65,0,19,39,59,73,93,null,""]
[null,null,70,0,1,3,4,6,8,null,"",null,null,70,0,2,4,5,6,7,null,"",null,null,70,0,45,53,60,74,90,null,""]
[null,null,75,0,2,3,4,6,9,null,"",null,null,75,0,2,4,4,5,6,null,"",null,null,75,0,35,49,55,68,83,null,""]
[null,null,80,0,0,1,2,5,8,null,"",null,null,80,0,2,3,4,5,6,null,"",null,null,80,0,23,32,45,59,77,null,""]
[null,null,85,0,0,1,2,4,8,null,"",null,null,85,0,1,3,4,5,6,null,"",null,null,85,0,20,25,37,45,62,null,""]
[]
[]
[]
[]
[]
[]
[]
[]
[]
[]
[]
[]
[]
[]
[]
[]
[]
[]
[]
[]
[]
[]
[]
[]
[]
[]
[]
[]
[null,null,null,1,70,80,90,110,120,130]
[null,null,null,"Extremely Low","Borderline","Low Average","Average","High Average","Superior","Very Superior"]
[null,null,"vsc",46,55,67,75,86,95,106,116,127,135,147,155]
[null,null,"vconf-",-4,-4,-5,-5,-6,-6,-7,-7,-8,-8,-9,-9]
[null,null,"vconf+",9,8,8,7,7,6,6,5,5,4,4,3]
[null,null,"psc",45,47,55,63,72,79,88,96,105,114,123,129,140,146,155]
[null,null,"pconf-",-3,-4,-4,-5,-5,-6,-6,-7,-7,-8,-8,-9,-9,-9,-9]
[null,null,"pconf+",10,10,9,9,8,8,7,7,6,6,5,5,4,4,3]
[null,null,"fssc",40,48,53,82,86,112,115,119,148,153]
[null,null,"fsconf-",-3,-3,-4,-4,-5,-5,-5,-6,-6,-7]
[null,null,"fsconf+",7,6,6,5,5,5,4,4,3,3]
[null,null,"psi",46,49,56,60,64,68,73,75,83,85,91,94,100,102,110,113,119,122,128,131,137,140,145,150]
[null,null,"psi",-3,-3,-4,-4,-5,-5,-6,-6,-7,-7,-8,-8,-9,-9,-10,-10,-11,-11,-12,-12,-13,-13,-14,-14]
[null,null,"psi",15,14,14,13,13,12,13,11,11,10,10,9,9,8,8,7,7,6,6,5,5,4,4,3]
[null,null,"GLC",45,50,54,63,67,75,78,86,91,100,103,113,116,125,128,138,141,147,152]
[null,null,"GLC",-3,-4,-4,-5,-5,-6,-6,-7,-7,-8,-8,-9,-9,-10,-10,-11,-11,-12,-12]
[null,null,"GLC",12,12,11,11,10,10,9,9,8,8,7,7,6,6,5,5,4,4,3]
[null,null,"wmi",50,55,63,73,80,88,97,106,113,124,130,139,147]
[null,null,"wmi-",-4,-4,-5,-5,-6,-6,-7,-7,-8,-8,-9,-9,-10]
[null,null,"wmi+",10,9,9,8,8,7,7,6,6,5,5,4,4]
[null,null,"pssc",54,57,63,71,73,79,81,88,96,99,106,114,122,131,140,148]
[null,null,"psconf-",-3,-4,-5,-5,-6,-6,-7,-8,-8,-9,-10,-11,-12,-13,-14,-15]
[null,null,"psconf+",14,14,13,12,12,11,11,10,9,9,8,7,6,5,4,3]
[]
[null,null,"Vss",3,{"$f":"D402+1","v":4},{"$f":"E402+1","v":5},6,7,8,9,10,11,12,13,14,15,16,17,18,19,20,21,22,23,24,25,26,27,28,29,30,31,32,33,34,35,36,37,38,39,40,41,42,43,44,45,46,47,48,49,50,51,52,53,54,55,56,57]
[null,null,"VIQ",46,48,51,53,55,57,59,61,64,67,70,72,74,75,77,78,80,81,83,85,86,88,90,91,93,95,98,100,101,102,104,106,108,110,112,114,116,118,121,124,127,129,131,133,135,137,139,141,143,145,147,149,151,153,155]
[null,null,"Pss",3,{"$f":"D404+1","v":4},{"$f":"E404+1","v":5},6,7,8,9,10,11,12,13,14,15,16,17,18,19,20,21,22,23,24,25,26,27,28,29,30,31,32,33,34,35,36,37,38,39,40,41,42,43,44,45,46,47,48,49,50,51,52,53,54,55,56,57]
[null,null,"PIQ",45,47,49,51,53,55,57,59,61,63,65,67,70,72,73,75,77,79,81,82,84,86,88,90,93,96,98,100,101,103,105,108,110,112,114,116,119,121,123,125,127,129,131,133,135,137,140,142,144,146,148,150,152,154,155]
[null,null,"FSss",7,{"$f":"D406+1","v":8},{"$f":"E406+1","v":9},10,11,12,13,14,15,16,17,18,19,20,21,22,23,24,25,26,27,28,29,30,31,32,33,34,35,36,37,38,39,40,41,42,43,44,45,46,47,48,49,50,51,52,53,54,55,56,57,58,59,60,61,62,63,64,65,66,67,68,69,70,71,72,{"$f":"BQ406+1","v":73},74,75,76,77,78,79,80,81,82,83,84,85,{"$f":"CD406+1","v":86},{"$f":"CE406+1","v":87},{"$f":"CF406+1","v":88},89,90,91,92,93,94,95,96,97,98,99,100,101,102,103,104,105,106,107,108,109,110,111,112,113,114,115,116,117,118,119,120,121,122,123,124,125,126,127,128,129,130,131,132,133]
[null,null,"FIQ",40,41,42,43,44,45,46,47,48,49,50,51,52,53,54,55,56,57,58,59,60,61,62,63,64,65,66,67,68,69,70,71,72,73,73,74,75,75,76,77,78,79,80,80,81,81,82,83,84,85,86,87,88,89,90,91,92,93,94,95,96,97,98,99,99,100,101,102,103,104,105,107,109,110,111,112,113,114,115,116,117,118,119,120,121,122,123,124,125,126,127,128,129,130,131,132,133,134,135,136,137,138,139,140,141,142,143,144,145,146,146,147,148,149,150,151,152,153,154,154,155,155,156,157,158,159,160]
[null,null,"glc",2,{"$f":"D408+1","v":3},{"$f":"E408+1","v":4},5,6,7,8,9,10,11,12,13,14,15,16,17,18,19,20,21,22,{"$f":"X408+1","v":23},24,25,26,27,28,29,30,31,{"$f":"AG408+1","v":32},33,34,35,36,37]
[null,null,"glcss",45,47,50,54,59,63,67,70,72,75,78,81,83,86,89,91,94,97,100,103,105,108,110,113,116,118,121,125,128,131,135,138,141,144,147,150,152]
[null,null,"psi",2,{"$f":"D410+1","v":3},{"$f":"E410+1","v":4},5,6,7,8,9,10,11,12,13,14,15,16,17,18,19,20,21,22,{"$f":"X410+1","v":23},24,25,26,27,28,29,30,31,32,33,34,35,36,37]
[null,null,"psss",46,49,52,56,60,64,68,71,73,75,78,80,83,85,88,91,94,97,100,102,104,107,110,113,116,119,122,125,128,131,134,137,140,143,145,147,150]
[null,null,"wmi",3,4,5,6,7,8,9,10,11,12,13,14,15,16,17,18,19,20,21,22,23,24,25,26,27,28,29,30,31,32,33,34,35,36,37,38,39,40,41,42,43,44,45,46,47,48,49,50,51,52,53,54,55,56,60]
[null,null,"wmiss",50,50,50,51,53,55,57,59,61,63,65,67,69,71,73,75,78,80,82,84,86,88,90,92,94,95,97,99,102,104,106,108,109,111,113,115,117,119,121,124,126,128,130,133,136,139,141,144,147,150,150,150,150,150,150]
[null,null,"psi",2,3,4,5,6,7,8,9,10,11,12,13,14,15,16,17,18,19,20,21,22,23,24,25,26,27,28,29,30,31,32,33,34,35,36,37,38]
[null,null,"psiss",54,57,60,63,66,68,69,71,73,76,79,81,84,86,88,91,93,96,99,103,106,108,111,114,117,120,122,125,128,131,134,137,140,143,145,148,150]